View In:
ArcGIS JavaScript
ArcGIS Online Map Viewer
ArcGIS Earth
ArcMap
View Footprint In:
ArcGIS Online Map Viewer
Service Description: MBGNA/MBG_IMG_1949_ra_tif
Name: MBGNA/MBG_IMG_1949_ra_tif
Description:
Single Fused Map Cache: false
Extent:
XMin: 1.3307642995168231E7
YMin: 286784.06488995085
XMax: 1.3315938129080232E7
YMax: 298265.14134995086
Spatial Reference: 102690
(102690)
Initial Extent:
XMin: 1.3307642995168231E7
YMin: 286784.06488995085
XMax: 1.3315938129080232E7
YMax: 298265.14134995086
Spatial Reference: 102690
(102690)
Full Extent:
XMin: 1.3307642995168231E7
YMin: 286784.06488995085
XMax: 1.3315938129080232E7
YMax: 298265.14134995086
Spatial Reference: 102690
(102690)
Pixel Size X: 2.246786000000218
Pixel Size Y: 2.2467860000000024
Band Count: 1
Pixel Type: S16
RasterFunction Infos: {"rasterFunctionInfos": [{
"name": "None",
"description": "",
"help": ""
}]}
Mensuration Capabilities: Basic
Has Histograms: false
Has Colormap: false
Has Multi Dimensions : false
Rendering Rule:
Min Scale: 0
Max Scale: 0
Copyright Text:
Service Data Type: esriImageServiceDataTypeGeneric
Min Values: N/A
Max Values: N/A
Mean Values: N/A
Standard Deviation Values: N/A
Object ID Field:
Fields:
None
Default Mosaic Method: Center
Allowed Mosaic Methods:
SortField:
SortValue: null
Mosaic Operator: First
Default Compression Quality: 75
Default Resampling Method: Bilinear
Max Record Count: null
Max Image Height: 4100
Max Image Width: 15000
Max Download Image Count: null
Max Mosaic Image Count: null
Allow Raster Function: true
Allow Copy: true
Allow Analysis: true
Allow Compute TiePoints: false
Supports Statistics: false
Supports Advanced Queries: false
Use StandardizedQueries: true
Raster Type Infos:
Name: Raster Dataset
Description: Supports all ArcGIS Raster Datasets
Help:
Has Raster Attribute Table: false
Edit Fields Info: null
Ownership Based AccessControl For Rasters: null
Child Resources:
Info
Statistics
Key Properties
Legend
Raster Function Infos
Supported Operations:
Export Image
Identify
Measure
Compute Histograms
Compute Statistics Histograms
Get Samples
Compute Class Statistics
Query Boundary
Compute Pixel Location
Validate
Project