{
 "currentVersion": 10.81,
 "serviceDescription": "MBGNA/MBG_IMG_1949_ra_tif",
 "name": "MBGNA/MBG_IMG_1949_ra_tif",
 "description": "",
 "extent": {
  "xmin": 1.3307642995168231E7,
  "ymin": 286784.06488995085,
  "xmax": 1.3315938129080232E7,
  "ymax": 298265.14134995086,
  "spatialReference": {
   "wkid": 102690,
   "latestWkid": 102690
  }
 },
 "initialExtent": {
  "xmin": 1.3307642995168231E7,
  "ymin": 286784.06488995085,
  "xmax": 1.3315938129080232E7,
  "ymax": 298265.14134995086,
  "spatialReference": {
   "wkid": 102690,
   "latestWkid": 102690
  }
 },
 "fullExtent": {
  "xmin": 1.3307642995168231E7,
  "ymin": 286784.06488995085,
  "xmax": 1.3315938129080232E7,
  "ymax": 298265.14134995086,
  "spatialReference": {
   "wkid": 102690,
   "latestWkid": 102690
  }
 },
 "pixelSizeX": 2.246786000000218,
 "pixelSizeY": 2.2467860000000024,
 "datasetFormat": "TIFF",
 "uncompressedSize": 37714638,
 "blockWidth": 128,
 "blockHeight": 128,
 "compressionType": "None",
 "bandNames": [
  "Band_1"
 ],
 "allowCopy": true,
 "allowAnalysis": true,
 "bandCount": 1,
 "noDataValue": 256,
 "noDataValues": [
  256
 ],
 "pixelType": "S16",
 "minPixelSize": 0,
 "maxPixelSize": 0,
 "copyrightText": "",
 "serviceDataType": "esriImageServiceDataTypeGeneric",
 "serviceSourceType": "esriImageServiceSourceTypeDataset",
 "minValues": [],
 "maxValues": [],
 "meanValues": [],
 "stdvValues": [],
 "objectIdField": "",
 "fields": [],
 "capabilities": "Image,Metadata,Mensuration",
 "defaultMosaicMethod": "Center",
 "allowedMosaicMethods": "",
 "sortField": "",
 "sortValue": null,
 "sortAscending": true,
 "mosaicOperator": "First",
 "defaultCompressionQuality": 75,
 "defaultResamplingMethod": "Bilinear",
 "maxImageHeight": 4100,
 "maxImageWidth": 15000,
 "allowRasterFunction": true,
 "rasterFunctionInfos": [
  {
   "name": "None",
   "description": "",
   "help": ""
  }
 ],
 "rasterTypeInfos": [
  {
   "name": "Raster Dataset",
   "description": "Supports all ArcGIS Raster Datasets",
   "help": ""
  }
 ],
 "mensurationCapabilities": "Basic",
 "hasHistograms": false,
 "hasColormap": false,
 "hasRasterAttributeTable": false,
 "minScale": 0,
 "maxScale": 0,
 "exportTilesAllowed": false,
 "hasMultidimensions": false,
 "supportsStatistics": false,
 "supportsAdvancedQueries": false,
 "editFieldsInfo": null,
 "ownershipBasedAccessControlForRasters": null,
 "allowComputeTiePoints": false,
 "useStandardizedQueries": true,
 "advancedQueryCapabilities": {
  "useStandardizedQueries": true,
  "supportsStatistics": false,
  "supportsOrderBy": false,
  "supportsDistinct": false,
  "supportsPagination": false
 },
 "spatialReference": {
  "wkid": 102690,
  "latestWkid": 102690
 }
}
