View In:
ArcGIS JavaScript
ArcGIS Online Map Viewer
ArcGIS Earth
ArcMap
View Footprint In:
ArcGIS Online Map Viewer
Service Description: NMClip
Name: NMClip
Description:
Single Fused Map Cache: false
Extent:
XMin: -9313819.947189618
YMin: 5205605.641790867
XMax: -9313379.613176167
YMax: 5205983.49749117
Spatial Reference: 102100
(3857)
Initial Extent:
XMin: -9313819.947189618
YMin: 5205605.641790867
XMax: -9313379.613176167
YMax: 5205983.49749117
Spatial Reference: 102100
(3857)
Full Extent:
XMin: -9313819.947189618
YMin: 5205605.641790867
XMax: -9313379.613176167
YMax: 5205983.49749117
Spatial Reference: 102100
(3857)
Pixel Size X: 0.07464553542140885
Pixel Size Y: 0.0746455354213491
Band Count: 3
Pixel Type: U8
RasterFunction Infos: {"rasterFunctionInfos": [{
"name": "None",
"description": "",
"help": ""
}]}
Mensuration Capabilities: Basic
Has Histograms: true
Has Colormap: false
Has Multi Dimensions : false
Rendering Rule:
Min Scale: 0
Max Scale: 0
Copyright Text:
Service Data Type: esriImageServiceDataTypeProcessed
Min Values: 0, 0, 0
Max Values: 255, 255, 255
Mean Values: 132.2149237450133, 110.09090277489196, 82.4241237234562
Standard Deviation Values: 45.09014963796205, 40.93718253819846, 36.9793008081889
Object ID Field:
Fields:
None
Default Mosaic Method: Center
Allowed Mosaic Methods:
SortField:
SortValue: null
Mosaic Operator: First
Default Compression Quality: 75
Default Resampling Method: Bilinear
Max Record Count: null
Max Image Height: 4100
Max Image Width: 15000
Max Download Image Count: null
Max Mosaic Image Count: null
Allow Raster Function: true
Allow Copy: true
Allow Analysis: true
Allow Compute TiePoints: false
Supports Statistics: false
Supports Advanced Queries: false
Use StandardizedQueries: true
Raster Type Infos:
Name: Raster Dataset
Description: Supports all ArcGIS Raster Datasets
Help:
Has Raster Attribute Table: false
Edit Fields Info: null
Ownership Based AccessControl For Rasters: null
Child Resources:
Info
Histograms
Statistics
Key Properties
Legend
Raster Function Infos
Supported Operations:
Export Image
Identify
Measure
Compute Histograms
Compute Statistics Histograms
Get Samples
Compute Class Statistics
Query Boundary
Compute Pixel Location
Validate
Project